BEGIN:VCALENDAR
VERSION:2.0
PRODID:-//Nadiad Ayurveda - ECPv5.2.1//NONSGML v1.0//EN
CALSCALE:GREGORIAN
METHOD:PUBLISH
X-WR-CALNAME:Nadiad Ayurveda
X-ORIGINAL-URL:https://nadiadayurveda.org
X-WR-CALDESC:Events for Nadiad Ayurveda
BEGIN:VTIMEZONE
TZID:UTC
BEGIN:STANDARD
TZOFFSETFROM:+0000
TZOFFSETTO:+0000
TZNAME:UTC
DTSTART:20260101T000000
END:STANDARD
END:VTIMEZONE
BEGIN:VEVENT
DTSTART;TZID=UTC:20260307T113000
DTEND;TZID=UTC:20260307T120000
DTSTAMP:20260421T201608
CREATED:20260209T062519Z
LAST-MODIFIED:20260209T062521Z
UID:25882-1772883000-1772884800@nadiadayurveda.org
SUMMARY:Office Staff Meeting
DESCRIPTION:
URL:https://nadiadayurveda.org/events/office-staff-meeting-28/
END:VEVENT
END:VCALENDAR