BEGIN:VCALENDAR
VERSION:2.0
PRODID:-//Nadiad Ayurveda - ECPv5.2.1//NONSGML v1.0//EN
CALSCALE:GREGORIAN
METHOD:PUBLISH
X-WR-CALNAME:Nadiad Ayurveda
X-ORIGINAL-URL:https://nadiadayurveda.org
X-WR-CALDESC:Events for Nadiad Ayurveda
BEGIN:VTIMEZONE
TZID:UTC
BEGIN:STANDARD
TZOFFSETFROM:+0000
TZOFFSETTO:+0000
TZNAME:UTC
DTSTART:20260101T000000
END:STANDARD
END:VTIMEZONE
BEGIN:VEVENT
DTSTART;TZID=UTC:20260308T000000
DTEND;TZID=UTC:20260308T235959
DTSTAMP:20260421T213725
CREATED:20260209T062736Z
LAST-MODIFIED:20260209T062738Z
UID:25890-1772928000-1773014399@nadiadayurveda.org
SUMMARY:International Women's Day – Vishakha Committee
DESCRIPTION:
URL:https://nadiadayurveda.org/events/international-womens-day-vishakha-committee-2/
END:VEVENT
END:VCALENDAR