BEGIN:VCALENDAR
VERSION:2.0
PRODID:-//Nadiad Ayurveda - ECPv5.2.1//NONSGML v1.0//EN
CALSCALE:GREGORIAN
METHOD:PUBLISH
X-WR-CALNAME:Nadiad Ayurveda
X-ORIGINAL-URL:https://nadiadayurveda.org
X-WR-CALDESC:Events for Nadiad Ayurveda
BEGIN:VTIMEZONE
TZID:UTC
BEGIN:STANDARD
TZOFFSETFROM:+0000
TZOFFSETTO:+0000
TZNAME:UTC
DTSTART:20260101T000000
END:STANDARD
END:VTIMEZONE
BEGIN:VEVENT
DTSTART;TZID=UTC:20260307T133000
DTEND;TZID=UTC:20260307T143000
DTSTAMP:20260421T201724
CREATED:20260209T062606Z
LAST-MODIFIED:20260209T062608Z
UID:25884-1772890200-1772893800@nadiadayurveda.org
SUMMARY:College Council Meeting
DESCRIPTION:
URL:https://nadiadayurveda.org/events/college-council-meeting-26/
END:VEVENT
END:VCALENDAR