BEGIN:VCALENDAR
VERSION:2.0
PRODID:-//Nadiad Ayurveda - ECPv5.2.1//NONSGML v1.0//EN
CALSCALE:GREGORIAN
METHOD:PUBLISH
X-WR-CALNAME:Nadiad Ayurveda
X-ORIGINAL-URL:https://nadiadayurveda.org
X-WR-CALDESC:Events for Nadiad Ayurveda
BEGIN:VTIMEZONE
TZID:UTC
BEGIN:STANDARD
TZOFFSETFROM:+0000
TZOFFSETTO:+0000
TZNAME:UTC
DTSTART:20260101T000000
END:STANDARD
END:VTIMEZONE
BEGIN:VEVENT
DTSTART;TZID=UTC:20260429T113000
DTEND;TZID=UTC:20260429T120000
DTSTAMP:20260421T195915
CREATED:20260318T102008Z
LAST-MODIFIED:20260318T102012Z
UID:25996-1777462200-1777464000@nadiadayurveda.org
SUMMARY:Office Staff Meeting
DESCRIPTION:
URL:https://nadiadayurveda.org/events/office-staff-meeting-30/
END:VEVENT
BEGIN:VEVENT
DTSTART;TZID=UTC:20260429T133000
DTEND;TZID=UTC:20260429T143000
DTSTAMP:20260421T195915
CREATED:20260318T102054Z
LAST-MODIFIED:20260318T102056Z
UID:25998-1777469400-1777473000@nadiadayurveda.org
SUMMARY:College Council Meeting
DESCRIPTION:
URL:https://nadiadayurveda.org/events/college-council-meeting-28/
END:VEVENT
BEGIN:VEVENT
DTSTART;TZID=UTC:20260429T143000
DTEND;TZID=UTC:20260429T150000
DTSTAMP:20260421T195915
CREATED:20260318T102129Z
LAST-MODIFIED:20260318T102131Z
UID:26000-1777473000-1777474800@nadiadayurveda.org
SUMMARY:Teaching Staff Meeting
DESCRIPTION:
URL:https://nadiadayurveda.org/events/teaching-staff-meeting-6/
END:VEVENT
BEGIN:VEVENT
DTSTART;TZID=UTC:20260429T160000
DTEND;TZID=UTC:20260429T163000
DTSTAMP:20260421T195915
CREATED:20260318T102159Z
LAST-MODIFIED:20260318T102201Z
UID:26002-1777478400-1777480200@nadiadayurveda.org
SUMMARY:Academic Committee Meeting
DESCRIPTION:
URL:https://nadiadayurveda.org/events/academic-committee-meeting-5/
END:VEVENT
BEGIN:VEVENT
DTSTART;TZID=UTC:20260508T000000
DTEND;TZID=UTC:20260508T235959
DTSTAMP:20260421T195915
CREATED:20260409T050057Z
LAST-MODIFIED:20260409T050059Z
UID:26007-1778198400-1778284799@nadiadayurveda.org
SUMMARY:World Thalassemia Day – NSS Unit
DESCRIPTION:
URL:https://nadiadayurveda.org/events/world-thalassemia-day-nss-unit/
END:VEVENT
BEGIN:VEVENT
DTSTART;TZID=UTC:20260512T000000
DTEND;TZID=UTC:20260512T235959
DTSTAMP:20260421T195915
CREATED:20260409T050129Z
LAST-MODIFIED:20260409T050131Z
UID:26009-1778544000-1778630399@nadiadayurveda.org
SUMMARY:International Nurses Day
DESCRIPTION:
URL:https://nadiadayurveda.org/events/international-nurses-day/
END:VEVENT
BEGIN:VEVENT
DTSTART;TZID=UTC:20260522T000000
DTEND;TZID=UTC:20260522T235959
DTSTAMP:20260421T195915
CREATED:20260409T050148Z
LAST-MODIFIED:20260409T050150Z
UID:26011-1779408000-1779494399@nadiadayurveda.org
SUMMARY:World Biodiversity Day – Green Audit Committee
DESCRIPTION:
URL:https://nadiadayurveda.org/events/world-biodiversity-day-green-audit-committee/
END:VEVENT
BEGIN:VEVENT
DTSTART;TZID=UTC:20260528T000000
DTEND;TZID=UTC:20260528T235959
DTSTAMP:20260421T195915
CREATED:20260409T050208Z
LAST-MODIFIED:20260409T050210Z
UID:26013-1779926400-1780012799@nadiadayurveda.org
SUMMARY:Menstrual Hygiene Day - Department of Prasuti Tantra Evam Stri-Roga
DESCRIPTION:
URL:https://nadiadayurveda.org/events/menstrual-hygiene-day-department-of-prasuti-tantra-evam-stri-roga/
END:VEVENT
END:VCALENDAR